BEGIN:VCALENDAR
VERSION:2.0
PRODID:-//Employee Benefit Broker &amp; Health Insurance Agency in NJ - ECPv6.15.20//NONSGML v1.0//EN
CALSCALE:GREGORIAN
METHOD:PUBLISH
X-ORIGINAL-URL:https://cosmoins.com
X-WR-CALDESC:Events for Employee Benefit Broker &amp; Health Insurance Agency in NJ
REFRESH-INTERVAL;VALUE=DURATION:PT1H
X-Robots-Tag:noindex
X-PUBLISHED-TTL:PT1H
BEGIN:VTIMEZONE
TZID:America/New_York
BEGIN:DAYLIGHT
TZOFFSETFROM:-0500
TZOFFSETTO:-0400
TZNAME:EDT
DTSTART:20230312T070000
END:DAYLIGHT
BEGIN:STANDARD
TZOFFSETFROM:-0400
TZOFFSETTO:-0500
TZNAME:EST
DTSTART:20231105T060000
END:STANDARD
BEGIN:DAYLIGHT
TZOFFSETFROM:-0500
TZOFFSETTO:-0400
TZNAME:EDT
DTSTART:20240310T070000
END:DAYLIGHT
BEGIN:STANDARD
TZOFFSETFROM:-0400
TZOFFSETTO:-0500
TZNAME:EST
DTSTART:20241103T060000
END:STANDARD
BEGIN:DAYLIGHT
TZOFFSETFROM:-0500
TZOFFSETTO:-0400
TZNAME:EDT
DTSTART:20250309T070000
END:DAYLIGHT
BEGIN:STANDARD
TZOFFSETFROM:-0400
TZOFFSETTO:-0500
TZNAME:EST
DTSTART:20251102T060000
END:STANDARD
END:VTIMEZONE
BEGIN:VEVENT
DTSTART;VALUE=DATE:20240704
DTEND;VALUE=DATE:20240705
DTSTAMP:20260422T100504
CREATED:20231220T154526Z
LAST-MODIFIED:20231220T154526Z
UID:28288-1720051200-1720137599@cosmoins.com
SUMMARY:July 4th: Office Closed
DESCRIPTION:
URL:https://cosmoins.com/event/july-4th-office-closed/
END:VEVENT
BEGIN:VEVENT
DTSTART;VALUE=DATE:20240714
DTEND;VALUE=DATE:20240715
DTSTAMP:20260422T100504
CREATED:20231221T173744Z
LAST-MODIFIED:20231221T173744Z
UID:28385-1720915200-1721001599@cosmoins.com
SUMMARY:Horizon Enrollment Deadline For 15th Of The Month
DESCRIPTION:
URL:https://cosmoins.com/event/horizon-enrollment-deadline-for-15th-of-the-month-7/
END:VEVENT
BEGIN:VEVENT
DTSTART;VALUE=DATE:20240720
DTEND;VALUE=DATE:20240721
DTSTAMP:20260422T100504
CREATED:20231221T203108Z
LAST-MODIFIED:20231221T203108Z
UID:28401-1721433600-1721519999@cosmoins.com
SUMMARY:Horizon Conversion Deadline For The Upcoming 1st Of The Month
DESCRIPTION:
URL:https://cosmoins.com/event/horizon-conversion-deadline-for-the-upcoming-1st-of-the-month-7/
END:VEVENT
BEGIN:VEVENT
DTSTART;VALUE=DATE:20240731
DTEND;VALUE=DATE:20240801
DTSTAMP:20260422T100504
CREATED:20231220T154925Z
LAST-MODIFIED:20231220T154925Z
UID:28293-1722384000-1722470399@cosmoins.com
SUMMARY:Quarterly Report Deadline
DESCRIPTION:
URL:https://cosmoins.com/event/quarterly-report-deadline-2/
END:VEVENT
BEGIN:VEVENT
DTSTART;VALUE=DATE:20240731
DTEND;VALUE=DATE:20240801
DTSTAMP:20260422T100504
CREATED:20231221T173118Z
LAST-MODIFIED:20231221T173118Z
UID:28371-1722384000-1722470399@cosmoins.com
SUMMARY:Enrollment Deadline For 1st Of The Month
DESCRIPTION:
URL:https://cosmoins.com/event/enrollment-deadline-for-1st-of-the-month-8/
END:VEVENT
BEGIN:VEVENT
DTSTART;VALUE=DATE:20240731
DTEND;VALUE=DATE:20240801
DTSTAMP:20260422T100504
CREATED:20231221T204147Z
LAST-MODIFIED:20231221T204147Z
UID:28419-1722384000-1722470399@cosmoins.com
SUMMARY:PCORI fee
DESCRIPTION:Employers with self-insured health plans must pay an annual fee to fund the Patient-Centered Outcomes Research Institute (PCORI). Self-insured health plans that are subject to PCORI fees include self-funded medical plans\, as well as HRAs offered in conjunction with fully insured group medical plans. HRAs offered with self-insured group medical plans are not subject to separate PCORI fees if the HRA and the medical plan have the same plan sponsor and plan year.\nEmployers use IRS Form 720 to report and pay PCORI fees\, which are due by July 31 of the year following the last day of the plan year.\n*The PCORI fees originally applied for plan years ending before Oct. 1\, 2019. However\, a 2019 spending resolution reinstated PCORI fees through 2029. As a result\, self-insured health plans must continue to pay these fees through 2029.
URL:https://cosmoins.com/event/pcori-fee/
END:VEVENT
BEGIN:VEVENT
DTSTART;VALUE=DATE:20240731
DTEND;VALUE=DATE:20240801
DTSTAMP:20260422T100504
CREATED:20240119T145836Z
LAST-MODIFIED:20240119T145836Z
UID:28682-1722384000-1722470399@cosmoins.com
SUMMARY:Form 5500
DESCRIPTION:ERISA-covered group health plans that do not qualify for the small plan exemption and MEWAs\nSmall health plans (fewer than 100 participants) that are fully insured\, unfunded or a combination of insured/unfunded are generally exempt from the Form 5500 filing requirement.\nUp to $2\,586 per day for late filing. Delinquent Filer Voluntary Compliance (DFVC) program could allow for reduced penalties
URL:https://cosmoins.com/event/form-5500/
END:VEVENT
END:VCALENDAR