BEGIN:VCALENDAR
VERSION:2.0
PRODID:-//Employee Benefit Broker &amp; Health Insurance Agency in NJ - ECPv6.15.20//NONSGML v1.0//EN
CALSCALE:GREGORIAN
METHOD:PUBLISH
X-WR-CALNAME:Employee Benefit Broker &amp; Health Insurance Agency in NJ
X-ORIGINAL-URL:https://cosmoins.com
X-WR-CALDESC:Events for Employee Benefit Broker &amp; Health Insurance Agency in NJ
REFRESH-INTERVAL;VALUE=DURATION:PT1H
X-Robots-Tag:noindex
X-PUBLISHED-TTL:PT1H
BEGIN:VTIMEZONE
TZID:America/New_York
BEGIN:DAYLIGHT
TZOFFSETFROM:-0500
TZOFFSETTO:-0400
TZNAME:EDT
DTSTART:20220313T070000
END:DAYLIGHT
BEGIN:STANDARD
TZOFFSETFROM:-0400
TZOFFSETTO:-0500
TZNAME:EST
DTSTART:20221106T060000
END:STANDARD
BEGIN:DAYLIGHT
TZOFFSETFROM:-0500
TZOFFSETTO:-0400
TZNAME:EDT
DTSTART:20230312T070000
END:DAYLIGHT
BEGIN:STANDARD
TZOFFSETFROM:-0400
TZOFFSETTO:-0500
TZNAME:EST
DTSTART:20231105T060000
END:STANDARD
BEGIN:DAYLIGHT
TZOFFSETFROM:-0500
TZOFFSETTO:-0400
TZNAME:EDT
DTSTART:20240310T070000
END:DAYLIGHT
BEGIN:STANDARD
TZOFFSETFROM:-0400
TZOFFSETTO:-0500
TZNAME:EST
DTSTART:20241103T060000
END:STANDARD
END:VTIMEZONE
BEGIN:VEVENT
DTSTART;VALUE=DATE:20230825
DTEND;VALUE=DATE:20230828
DTSTAMP:20260422T175556
CREATED:20230815T175106Z
LAST-MODIFIED:20230815T175106Z
UID:26902-1692921600-1693180799@cosmoins.com
SUMMARY:75th Annual HCANJ Convention and Expo
DESCRIPTION:Step into a legacy of excellence as we celebrate 75 years of the Annual HCANJ Convention and Expo\, taking place from October 23rd to 25th\, 2023\, at the iconic Harrah’s Waterfront Conference Center in Atlantic City. Join us for an extraordinary event that blends tradition with innovation\, setting the stage for the future of healthcare. \nAs pioneers in the healthcare industry\, the Healthcare Association of New Jersey (HCANJ) has been at the forefront of transformative advancements. This landmark convention brings together healthcare professionals\, industry leaders\, and visionaries to honor our past achievements and collectively shape the trajectory of healthcare for years to come. \nOur journey begins with vendor setup on October 23rd\, setting the stage for an immersive experience that follows. From cutting-edge medical technologies to breakthrough treatment methodologies\, the 75th Annual HCANJ Convention and Expo showcases the best of healthcare innovation. Explore a dynamic exhibition floor\, where industry-leading vendors will showcase their latest solutions designed to enhance patient care\, streamline operations\, and elevate healthcare standards. \nImmerse yourself in a diverse range of sessions\, discussions\, and workshops led by thought leaders who have paved the way in healthcare excellence. Engage in meaningful dialogues that address the challenges and opportunities faced by the industry today. Whether you’re a healthcare practitioner\, administrator\, researcher\, or simply passionate about healthcare advancement\, this convention provides a platform to connect\, collaborate\, and catalyze change. \nAt the Harrah’s Waterfront Conference Center\, you’ll not only be part of a historic milestone but also contribute to the evolving landscape of healthcare. Join us as we bridge the gap between tradition and innovation\, celebrating our achievements while propelling healthcare into a new era of possibilities. \nMark your calendar for the 75th Annual HCANJ Convention and Expo – where the past meets the future\, and where healthcare excellence is redefined. See you there! 🎉 #HCANJ75th #HealthcareInnovation
URL:https://cosmoins.com/event/75th-annual-hcanj-convention-and-expo/
LOCATION:Harrah’s Conference Center\, 777 Harrah's Blvd\, Atlantic City\, NJ\, 08401\, United States
ATTACH;FMTTYPE=image/png:https://cosmoins.com/wp-content/uploads/2023/08/Brown-Clean-Corporate-Homeless-Awareness-Education-Square-Homelessness-Instagram-Post-2.png
END:VEVENT
BEGIN:VEVENT
DTSTART;VALUE=DATE:20230815
DTEND;VALUE=DATE:20230816
DTSTAMP:20260422T175556
CREATED:20230130T181723Z
LAST-MODIFIED:20230130T181723Z
UID:25749-1692057600-1692143999@cosmoins.com
SUMMARY:Horizon BCBS health insurance renewal submission deadline.
DESCRIPTION:
URL:https://cosmoins.com/event/horizon-bcbs-health-insurance-renewal-submission-deadline-23/
END:VEVENT
BEGIN:VEVENT
DTSTART;VALUE=DATE:20230801
DTEND;VALUE=DATE:20230802
DTSTAMP:20260422T175556
CREATED:20230130T181646Z
LAST-MODIFIED:20230130T181646Z
UID:25748-1690848000-1690934399@cosmoins.com
SUMMARY:Horizon BCBS health insurance renewal submission deadline.
DESCRIPTION:
URL:https://cosmoins.com/event/horizon-bcbs-health-insurance-renewal-submission-deadline-22/
END:VEVENT
BEGIN:VEVENT
DTSTART;VALUE=DATE:20230728
DTEND;VALUE=DATE:20230729
DTSTAMP:20260422T175556
CREATED:20230130T181607Z
LAST-MODIFIED:20230130T181607Z
UID:25747-1690502400-1690588799@cosmoins.com
SUMMARY:Horizon BCBS health insurance renewal submission deadline.
DESCRIPTION:
URL:https://cosmoins.com/event/horizon-bcbs-health-insurance-renewal-submission-deadline-21/
END:VEVENT
BEGIN:VEVENT
DTSTART;TZID=America/New_York:20230723T093000
DTEND;TZID=America/New_York:20230723T113000
DTSTAMP:20260422T175556
CREATED:20230723T130952Z
LAST-MODIFIED:20230723T131032Z
UID:26649-1690104600-1690111800@cosmoins.com
SUMMARY:Planting & Fun POAC
DESCRIPTION:Come and be a part of a heartwarming event that combines the joy of planting and the excitement of supporting a truly incredible cause! Join us in our mission to make a difference in the lives of children with autism. \nIn this special gathering\, we’ll be coming together to plant seeds of hope and compassion\, both literally and metaphorically. As we dig our hands into the soil to nurture and grow beautiful plants\, we’ll also be nurturing the dreams and aspirations of children on the autism spectrum. Our collective efforts aim to create a brighter future for them\, filled with love\, understanding\, and opportunities. \nThe event promises to be a delightful experience\, where we’ll not only be contributing to a meaningful cause but also fostering a sense of community and togetherness. As we plant and tend to our garden\, we’ll also be planting seeds of awareness and acceptance for those affected by autism. \nWhether you have a green thumb or just a desire to make a positive impact\, all are welcome to join us for this day of planting and fun. Every little contribution counts\, and your involvement will go a long way in supporting the invaluable work done for children with autism. \nSo mark your calendars and gather your family and friends to be a part of this heartwarming event. Let’s create a world where children with autism are empowered\, loved\, and celebrated for their uniqueness. Together\, we can sow the seeds of change and make a lasting difference in the lives of these remarkable children. See you there!https://www.poac.net/events/planting-fun-allaire-community-farm/
URL:https://cosmoins.com/event/planting-fun-poac/
LOCATION:Allaire Community Farm\, 1923 Baileys Corner Road\, Wall Township\, 07719\, United States
CATEGORIES:Day Event
END:VEVENT
BEGIN:VEVENT
DTSTART;VALUE=DATE:20230715
DTEND;VALUE=DATE:20230716
DTSTAMP:20260422T175556
CREATED:20230130T181536Z
LAST-MODIFIED:20230130T181536Z
UID:25746-1689379200-1689465599@cosmoins.com
SUMMARY:Horizon BCBS health insurance renewal submission deadline.
DESCRIPTION:
URL:https://cosmoins.com/event/horizon-bcbs-health-insurance-renewal-submission-deadline-20/
END:VEVENT
BEGIN:VEVENT
DTSTART;TZID=America/New_York:20230712T180000
DTEND;TZID=America/New_York:20230712T203000
DTSTAMP:20260422T175556
CREATED:20230712T204604Z
LAST-MODIFIED:20230724T151043Z
UID:26554-1689184800-1689193800@cosmoins.com
SUMMARY:Brew Run
DESCRIPTION:Join Cosmo Insurance at the exciting Brew Run on July 19th! Lace up your running shoes and get ready for a fantastic event that combines fitness\, camaraderie\, and delicious brews. Cosmo Insurance is thrilled to be a part of this exhilarating run\, where participants can enjoy a scenic course while indulging in the incredible craft beer scene. The Brew Run is a unique experience that caters to both fitness enthusiasts and beer lovers alike\, making it the perfect event to bring together friends\, families\, and coworkers for a day of fun and adventure. As an insurance company that values health and well-being\, Cosmo Insurance is proud to support events that promote an active lifestyle. We believe in the importance of staying fit and maintaining a balanced lifestyle\, and the Brew Run perfectly aligns with our commitment to encouraging healthy living. During the Brew Run\, Cosmo Insurance will be present to provide information and answer any insurance-related questions you may have. Our knowledgeable team will be available to discuss the various insurance options available\, ensuring that you have the coverage you need to protect what matters most to you and your loved ones. Not only will you have the opportunity to participate in a thrilling run\, but you’ll also have the chance to connect with the Cosmo Insurance team and learn about the valuable insurance solutions we offer. We understand the significance of having the right insurance coverage\, and we are dedicated to helping you make informed decisions that safeguard your future. So mark your calendars for July 19th and join Cosmo Insurance at the Brew Run for a memorable day of fitness\, camaraderie\, and great beer. Whether you’re an avid runner\, a beer aficionado\, or simply looking for a fun and energetic event\, this run is sure to exceed your expectations. Don’t miss out on the opportunity to experience the best of both worlds – a fantastic run and a chance to explore the craft beer scene. Cosmo Insurance looks forward to seeing you at the Brew Run\, where we’ll celebrate health\, happiness\, and the joy of coming together for a fantastic cause.
URL:https://cosmoins.com/event/brew-run/
LOCATION:Farmers & Bankers Brewing\, 8 N Main St\, Woodstown\, NJ\, 08098\, United States
END:VEVENT
BEGIN:VEVENT
DTSTART;TZID=America/New_York:20230707T153000
DTEND;TZID=America/New_York:20230707T183000
DTSTAMP:20260422T175556
CREATED:20230706T135755Z
LAST-MODIFIED:20230706T135755Z
UID:26484-1688743800-1688754600@cosmoins.com
SUMMARY:Cornhole for Cancer
DESCRIPTION:Join us at the ‘Cornhole for Cancer’ event hosted by Maryanne Pastry Shoppe. Cosmo Insurance proudly attends and sponsors this charitable initiative\, promoting cancer research and support programs. Engage with our representatives\, learn about insurance options\, and contribute to a great cause.
URL:https://cosmoins.com/event/cornhole-for-cancer/
LOCATION:Maryanne Pastry Shop\, Excursion Park 2 41st St\, Sea Isle City\, NJ\, 08243\, United States
CATEGORIES:Day Event
END:VEVENT
BEGIN:VEVENT
DTSTART;VALUE=DATE:20230704
DTEND;VALUE=DATE:20230705
DTSTAMP:20260422T175556
CREATED:20230119T174541Z
LAST-MODIFIED:20230130T165635Z
UID:25675-1688428800-1688515199@cosmoins.com
SUMMARY:Independents day: Office is closed.
DESCRIPTION:
URL:https://cosmoins.com/event/independents-day/
END:VEVENT
BEGIN:VEVENT
DTSTART;VALUE=DATE:20230701
DTEND;VALUE=DATE:20230702
DTSTAMP:20260422T175556
CREATED:20230130T181501Z
LAST-MODIFIED:20230130T181501Z
UID:25745-1688169600-1688255999@cosmoins.com
SUMMARY:Horizon BCBS health insurance renewal submission deadline.
DESCRIPTION:
URL:https://cosmoins.com/event/horizon-bcbs-health-insurance-renewal-submission-deadline-19/
END:VEVENT
BEGIN:VEVENT
DTSTART;VALUE=DATE:20230630
DTEND;VALUE=DATE:20230701
DTSTAMP:20260422T175556
CREATED:20230130T200314Z
LAST-MODIFIED:20230130T200314Z
UID:25770-1688083200-1688169599@cosmoins.com
SUMMARY:Quarterly pay roll report: Form 927
DESCRIPTION:
URL:https://cosmoins.com/event/quarterly-pay-roll-report-form-927-2/
END:VEVENT
BEGIN:VEVENT
DTSTART;VALUE=DATE:20230628
DTEND;VALUE=DATE:20230629
DTSTAMP:20260422T175556
CREATED:20230130T181422Z
LAST-MODIFIED:20230130T181422Z
UID:25744-1687910400-1687996799@cosmoins.com
SUMMARY:Horizon BCBS health insurance renewal submission deadline.
DESCRIPTION:
URL:https://cosmoins.com/event/horizon-bcbs-health-insurance-renewal-submission-deadline-18/
END:VEVENT
BEGIN:VEVENT
DTSTART;VALUE=DATE:20230615
DTEND;VALUE=DATE:20230616
DTSTAMP:20260422T175556
CREATED:20230130T181200Z
LAST-MODIFIED:20230130T181200Z
UID:25743-1686787200-1686873599@cosmoins.com
SUMMARY:Horizon BCBS health insurance renewal submission deadline.
DESCRIPTION:
URL:https://cosmoins.com/event/horizon-bcbs-health-insurance-renewal-submission-deadline-17/
END:VEVENT
BEGIN:VEVENT
DTSTART;VALUE=DATE:20230611
DTEND;VALUE=DATE:20230615
DTSTAMP:20260422T175556
CREATED:20230530T195146Z
LAST-MODIFIED:20230530T195146Z
UID:26093-1686441600-1686787199@cosmoins.com
SUMMARY:SHRM Conference
DESCRIPTION:Join us at SHRM 2023 Conference Booth 3601 to discover a world of improved employee well-being. Our innovative insurance solutions ensure comprehensive coverage\, happier employees\, and higher job satisfaction. Let us simplify the process for HR representatives\, making employee health insurance benefits a breeze. Visit our booth and unlock a brighter future for your workforce! 
URL:https://cosmoins.com/event/shrm-conference/
LOCATION:Las Vegas Convention Center\, 3150 S Paradise Rd.\, Las Vegas\, NV\, 89109
CATEGORIES:Day Event
END:VEVENT
BEGIN:VEVENT
DTSTART;VALUE=DATE:20230601
DTEND;VALUE=DATE:20230602
DTSTAMP:20260422T175556
CREATED:20230130T181107Z
LAST-MODIFIED:20230130T181107Z
UID:25742-1685577600-1685663999@cosmoins.com
SUMMARY:Horizon BCBS health insurance renewal submission deadline.
DESCRIPTION:
URL:https://cosmoins.com/event/horizon-bcbs-health-insurance-renewal-submission-deadline-16/
END:VEVENT
BEGIN:VEVENT
DTSTART;VALUE=DATE:20230529
DTEND;VALUE=DATE:20230530
DTSTAMP:20260422T175556
CREATED:20230119T175032Z
LAST-MODIFIED:20230130T165353Z
UID:25679-1685318400-1685404799@cosmoins.com
SUMMARY:Memorial day: Office is closed.
DESCRIPTION:
URL:https://cosmoins.com/event/memorial-day-3/
END:VEVENT
BEGIN:VEVENT
DTSTART;VALUE=DATE:20230528
DTEND;VALUE=DATE:20230529
DTSTAMP:20260422T175556
CREATED:20230130T181021Z
LAST-MODIFIED:20230130T181021Z
UID:25741-1685232000-1685318399@cosmoins.com
SUMMARY:Horizon BCBS health insurance renewal submission deadline.
DESCRIPTION:
URL:https://cosmoins.com/event/horizon-bcbs-health-insurance-renewal-submission-deadline-15/
END:VEVENT
BEGIN:VEVENT
DTSTART;VALUE=DATE:20230525
DTEND;VALUE=DATE:20230528
DTSTAMP:20260422T175556
CREATED:20230119T174327Z
LAST-MODIFIED:20230130T164542Z
UID:25671-1684972800-1685231999@cosmoins.com
SUMMARY:Shavuot: Office is closed.
DESCRIPTION: 
URL:https://cosmoins.com/event/shavuot/
END:VEVENT
BEGIN:VEVENT
DTSTART;VALUE=DATE:20230516
DTEND;VALUE=DATE:20230517
DTSTAMP:20260422T175556
CREATED:20230106T164203Z
LAST-MODIFIED:20230209T163607Z
UID:25539-1684195200-1684281599@cosmoins.com
SUMMARY:	Assisted Living Conference
DESCRIPTION:Educational programming designed to advance the assisted living profession and promote excellence in standards of care.
URL:https://cosmoins.com/event/%ef%81%b6assisted-living-conference/
LOCATION:DoubleTree by Hilton\, 700 Hope Road\, Tinton Falls\, NJ\, 07724\, United States
END:VEVENT
BEGIN:VEVENT
DTSTART;VALUE=DATE:20230515
DTEND;VALUE=DATE:20230516
DTSTAMP:20260422T175556
CREATED:20230130T180930Z
LAST-MODIFIED:20230130T180930Z
UID:25740-1684108800-1684195199@cosmoins.com
SUMMARY:Horizon BCBS health insurance renewal submission deadline.
DESCRIPTION:
URL:https://cosmoins.com/event/horizon-bcbs-health-insurance-renewal-submission-deadline-14/
END:VEVENT
BEGIN:VEVENT
DTSTART;VALUE=DATE:20230501
DTEND;VALUE=DATE:20230502
DTSTAMP:20260422T175556
CREATED:20230130T180838Z
LAST-MODIFIED:20230130T180838Z
UID:25739-1682899200-1682985599@cosmoins.com
SUMMARY:Horizon BCBS health insurance renewal submission deadline.
DESCRIPTION:
URL:https://cosmoins.com/event/horizon-bcbs-health-insurance-renewal-submission-deadline-13/
END:VEVENT
BEGIN:VEVENT
DTSTART;VALUE=DATE:20230428
DTEND;VALUE=DATE:20230429
DTSTAMP:20260422T175556
CREATED:20230130T180702Z
LAST-MODIFIED:20230130T180702Z
UID:25738-1682640000-1682726399@cosmoins.com
SUMMARY:Horizon BCBS health insurance renewal submission deadline.
DESCRIPTION:
URL:https://cosmoins.com/event/horizon-bcbs-health-insurance-renewal-submission-deadline-12/
END:VEVENT
BEGIN:VEVENT
DTSTART;VALUE=DATE:20230415
DTEND;VALUE=DATE:20230416
DTSTAMP:20260422T175556
CREATED:20230130T180535Z
LAST-MODIFIED:20230130T180535Z
UID:25737-1681516800-1681603199@cosmoins.com
SUMMARY:Horizon BCBS health insurance renewal submission deadline.
DESCRIPTION:
URL:https://cosmoins.com/event/horizon-bcbs-health-insurance-renewal-submission-deadline-11/
END:VEVENT
BEGIN:VEVENT
DTSTART;VALUE=DATE:20230412
DTEND;VALUE=DATE:20230414
DTSTAMP:20260422T175556
CREATED:20230119T174211Z
LAST-MODIFIED:20230119T174211Z
UID:25669-1681257600-1681430399@cosmoins.com
SUMMARY:Passover
DESCRIPTION:Office is closed.
URL:https://cosmoins.com/event/passover-3/
END:VEVENT
BEGIN:VEVENT
DTSTART;VALUE=DATE:20230406
DTEND;VALUE=DATE:20230408
DTSTAMP:20260422T175556
CREATED:20230119T174116Z
LAST-MODIFIED:20230130T164300Z
UID:25667-1680739200-1680911999@cosmoins.com
SUMMARY:Passover: Office is closed
DESCRIPTION: 
URL:https://cosmoins.com/event/passover-2/
END:VEVENT
BEGIN:VEVENT
DTSTART;VALUE=DATE:20230401
DTEND;VALUE=DATE:20230402
DTSTAMP:20260422T175556
CREATED:20230130T180446Z
LAST-MODIFIED:20230130T180446Z
UID:25736-1680307200-1680393599@cosmoins.com
SUMMARY:Horizon BCBS health insurance renewal submission deadline.
DESCRIPTION:
URL:https://cosmoins.com/event/horizon-bcbs-health-insurance-renewal-submission-deadline-10/
END:VEVENT
BEGIN:VEVENT
DTSTART;VALUE=DATE:20230331
DTEND;VALUE=DATE:20230401
DTSTAMP:20260422T175556
CREATED:20230130T193048Z
LAST-MODIFIED:20230130T193048Z
UID:25766-1680220800-1680307199@cosmoins.com
SUMMARY:Compliance reporting deadline: Electronic filing
DESCRIPTION:For Tax Year 2022\, applicable large employer must furnish Form 1095-C to applicable employees by March 2\, 2023. The deadline for filing paper Forms 1094-C and 1095-C with the IRS is Feb. 28\, 2023. The due date for electronic filing is March 31\, 2023. The affordability rate for plan years beginning in 2023 is 9.12% (a decrease from 9.61% for plan years beginning in 2022). \nBusinesses subject to ACA tracking and reporting requirements have several deadlines to meet if they want to be in ACA compliance. There are deadlines for furnishing forms to employees and for filing forms to the IRS. The IRS permanently provided an automatic 30-day extension from the Jan. 31 due date for Applicable Large Employers (ALEs) to provide forms 1095-C to applicable employees. \nThe deadline for ACA filing of all paper forms with the IRS remains Feb. 28. However\, the deadline is March 31\, if filing electronically. The due date is the next business day if it falls on a weekend or legal holiday. It should be noted that all employers with 250 or more returns to file must do so electronically.
URL:https://cosmoins.com/event/compliance-reporting-deadline-electronic-filing/
END:VEVENT
BEGIN:VEVENT
DTSTART;VALUE=DATE:20230330
DTEND;VALUE=DATE:20230331
DTSTAMP:20260422T175556
CREATED:20230130T200155Z
LAST-MODIFIED:20230130T200155Z
UID:25769-1680134400-1680220799@cosmoins.com
SUMMARY:Quarterly pay roll report: Form 927
DESCRIPTION:
URL:https://cosmoins.com/event/quarterly-pay-roll-report-form-927/
END:VEVENT
BEGIN:VEVENT
DTSTART;TZID=America/New_York:20230328T080000
DTEND;TZID=America/New_York:20230330T170000
DTSTAMP:20260422T175556
CREATED:20230106T163428Z
LAST-MODIFIED:20230209T163425Z
UID:25533-1679990400-1680195600@cosmoins.com
SUMMARY:	HCANJ Spring Conference
DESCRIPTION:The 51st Annual HCANJ Spring Conference will deliver timely education sessions on topics of importance to long term care professionals. Networking opportunities with vendors and your peers will give you the opportunity to gain extensive knowledge of the most cutting-edge products and services in your profession.
URL:https://cosmoins.com/event/%ef%81%b6hcanj-spring-conference/
LOCATION:Caesars Casino\, 2100 Pacific Avenue\, Atlantic City\, NJ\, United States
END:VEVENT
BEGIN:VEVENT
DTSTART;VALUE=DATE:20230328
DTEND;VALUE=DATE:20230329
DTSTAMP:20260422T175556
CREATED:20230130T180317Z
LAST-MODIFIED:20230130T180317Z
UID:25735-1679961600-1680047999@cosmoins.com
SUMMARY:Horizon BCBS health insurance renewal submission deadline.
DESCRIPTION:
URL:https://cosmoins.com/event/horizon-bcbs-health-insurance-renewal-submission-deadline-9/
END:VEVENT
END:VCALENDAR