BEGIN:VCALENDAR
VERSION:2.0
PRODID:-//Employee Benefit Broker &amp; Health Insurance Agency in NJ - ECPv6.15.20//NONSGML v1.0//EN
CALSCALE:GREGORIAN
METHOD:PUBLISH
X-WR-CALNAME:Employee Benefit Broker &amp; Health Insurance Agency in NJ
X-ORIGINAL-URL:https://cosmoins.com
X-WR-CALDESC:Events for Employee Benefit Broker &amp; Health Insurance Agency in NJ
REFRESH-INTERVAL;VALUE=DURATION:PT1H
X-Robots-Tag:noindex
X-PUBLISHED-TTL:PT1H
BEGIN:VTIMEZONE
TZID:UTC
BEGIN:STANDARD
TZOFFSETFROM:+0000
TZOFFSETTO:+0000
TZNAME:UTC
DTSTART:20190101T000000
END:STANDARD
END:VTIMEZONE
BEGIN:VEVENT
DTSTART;VALUE=DATE:20210620
DTEND;VALUE=DATE:20210621
DTSTAMP:20260423T032147
CREATED:20200923T185057Z
LAST-MODIFIED:20210414T011058Z
UID:17507-1624147200-1624233599@cosmoins.com
SUMMARY:Father's Day
DESCRIPTION:
URL:https://cosmoins.com/event/fathers-day/
ATTACH;FMTTYPE=image/jpeg:https://cosmoins.com/wp-content/uploads/2020/09/Untitled-design-2020-09-23T102909.845-scaled.jpg
END:VEVENT
BEGIN:VEVENT
DTSTART;VALUE=DATE:20210531
DTEND;VALUE=DATE:20210601
DTSTAMP:20260423T032147
CREATED:20200923T185013Z
LAST-MODIFIED:20210414T013533Z
UID:17505-1622419200-1622505599@cosmoins.com
SUMMARY:Memorial Day
DESCRIPTION:
URL:https://cosmoins.com/event/memorial-day/
ATTACH;FMTTYPE=image/jpeg:https://cosmoins.com/wp-content/uploads/2020/09/Untitled-design-2020-09-23T102830.497-scaled.jpg
END:VEVENT
BEGIN:VEVENT
DTSTART;TZID=UTC:20210516T080000
DTEND;TZID=UTC:20210518T170000
DTSTAMP:20260423T032147
CREATED:20200922T225454Z
LAST-MODIFIED:20210421T005949Z
UID:17384-1621152000-1621357200@cosmoins.com
SUMMARY:Shavout: Office is Closed
DESCRIPTION:We are closed in observance of Shavout.
URL:https://cosmoins.com/event/shavout-office-is-closed/
ATTACH;FMTTYPE=image/jpeg:https://cosmoins.com/wp-content/uploads/2020/09/Untitled-design-2020-09-22T145412.526.jpg
END:VEVENT
BEGIN:VEVENT
DTSTART;VALUE=DATE:20210513
DTEND;VALUE=DATE:20210514
DTSTAMP:20260423T032147
CREATED:20200923T184919Z
LAST-MODIFIED:20210415T010557Z
UID:17503-1620864000-1620950399@cosmoins.com
SUMMARY:Eid Ul Fitr
DESCRIPTION:
URL:https://cosmoins.com/event/eid-ul-fitr/
ATTACH;FMTTYPE=image/jpeg:https://cosmoins.com/wp-content/uploads/2020/09/Untitled-design-2020-09-23T102739.667-scaled.jpg
END:VEVENT
BEGIN:VEVENT
DTSTART;VALUE=DATE:20210509
DTEND;VALUE=DATE:20210510
DTSTAMP:20260423T032147
CREATED:20200923T192559Z
LAST-MODIFIED:20210415T010939Z
UID:17568-1620518400-1620604799@cosmoins.com
SUMMARY:Laylat al Qadr
DESCRIPTION:
URL:https://cosmoins.com/event/laylat-al-qadr/
ATTACH;FMTTYPE=image/jpeg:https://cosmoins.com/wp-content/uploads/2020/09/Untitled-design-2020-09-23T102619.958-scaled.jpg
END:VEVENT
BEGIN:VEVENT
DTSTART;VALUE=DATE:20210509
DTEND;VALUE=DATE:20210510
DTSTAMP:20260423T032147
CREATED:20200923T184822Z
LAST-MODIFIED:20210414T011201Z
UID:17501-1620518400-1620604799@cosmoins.com
SUMMARY:Mother's Day
DESCRIPTION:
URL:https://cosmoins.com/event/mothers-day/
ATTACH;FMTTYPE=image/jpeg:https://cosmoins.com/wp-content/uploads/2020/09/Untitled-design-2020-09-23T102656.765-scaled.jpg
END:VEVENT
BEGIN:VEVENT
DTSTART;VALUE=DATE:20210508
DTEND;VALUE=DATE:20210509
DTSTAMP:20260423T032147
CREATED:20200923T184735Z
LAST-MODIFIED:20210415T010904Z
UID:17499-1620432000-1620518399@cosmoins.com
SUMMARY:Laylat al Qadar
DESCRIPTION:
URL:https://cosmoins.com/event/laylat-al-qadar/
ATTACH;FMTTYPE=image/jpeg:https://cosmoins.com/wp-content/uploads/2020/09/Untitled-design-2020-09-23T102619.958-scaled.jpg
END:VEVENT
BEGIN:VEVENT
DTSTART;VALUE=DATE:20210415
DTEND;VALUE=DATE:20210416
DTSTAMP:20260423T032147
CREATED:20200923T184644Z
LAST-MODIFIED:20210414T014352Z
UID:17496-1618444800-1618531199@cosmoins.com
SUMMARY:Tax Day
DESCRIPTION:
URL:https://cosmoins.com/event/tax-day/
ATTACH;FMTTYPE=image/jpeg:https://cosmoins.com/wp-content/uploads/2020/09/Untitled-design-2020-09-23T104634.128.jpg
END:VEVENT
BEGIN:VEVENT
DTSTART;VALUE=DATE:20210413
DTEND;VALUE=DATE:20210414
DTSTAMP:20260423T032147
CREATED:20200923T184552Z
LAST-MODIFIED:20210415T011238Z
UID:17494-1618272000-1618358399@cosmoins.com
SUMMARY:Ramadan
DESCRIPTION:
URL:https://cosmoins.com/event/ramadan/
ATTACH;FMTTYPE=image/jpeg:https://cosmoins.com/wp-content/uploads/2020/09/Untitled-design-2020-09-23T102537.540-scaled.jpg
END:VEVENT
BEGIN:VEVENT
DTSTART;VALUE=DATE:20210404
DTEND;VALUE=DATE:20210405
DTSTAMP:20260423T032147
CREATED:20200923T184419Z
LAST-MODIFIED:20210416T024030Z
UID:17492-1617494400-1617580799@cosmoins.com
SUMMARY:Easter
DESCRIPTION:
URL:https://cosmoins.com/event/easter/
ATTACH;FMTTYPE=image/jpeg:https://cosmoins.com/wp-content/uploads/2020/09/Untitled-design-2020-09-23T102340.146-scaled.jpg
END:VEVENT
BEGIN:VEVENT
DTSTART;VALUE=DATE:20210402
DTEND;VALUE=DATE:20210403
DTSTAMP:20260423T032147
CREATED:20200923T184242Z
LAST-MODIFIED:20210414T005133Z
UID:17490-1617321600-1617407999@cosmoins.com
SUMMARY:Good Friday
DESCRIPTION:
URL:https://cosmoins.com/event/good-friday/
ATTACH;FMTTYPE=image/jpeg:https://cosmoins.com/wp-content/uploads/2020/09/Untitled-design-2020-09-23T102256.168-scaled.jpg
END:VEVENT
BEGIN:VEVENT
DTSTART;VALUE=DATE:20210329
DTEND;VALUE=DATE:20210330
DTSTAMP:20260423T032147
CREATED:20200922T225138Z
LAST-MODIFIED:20210421T005435Z
UID:17382-1616976000-1617062399@cosmoins.com
SUMMARY:Passover: Office is Closed
DESCRIPTION:We are closed in observance of Passover.
URL:https://cosmoins.com/event/passover-office-is-closed/
ATTACH;FMTTYPE=image/jpeg:https://cosmoins.com/wp-content/uploads/2020/09/Untitled-design-2020-09-22T145023.288.jpg
END:VEVENT
BEGIN:VEVENT
DTSTART;VALUE=DATE:20210328
DTEND;VALUE=DATE:20210329
DTSTAMP:20260423T032147
CREATED:20200923T184200Z
LAST-MODIFIED:20210416T025650Z
UID:17487-1616889600-1616975999@cosmoins.com
SUMMARY:Palm Sunday
DESCRIPTION:
URL:https://cosmoins.com/event/palm-sunday/
ATTACH;FMTTYPE=image/jpeg:https://cosmoins.com/wp-content/uploads/2020/09/Untitled-design-2020-09-23T104240.511.jpg
END:VEVENT
BEGIN:VEVENT
DTSTART;VALUE=DATE:20210327
DTEND;VALUE=DATE:20210328
DTSTAMP:20260423T032147
CREATED:20200922T225003Z
LAST-MODIFIED:20210415T011802Z
UID:17379-1616803200-1616889599@cosmoins.com
SUMMARY:Passover
DESCRIPTION:
URL:https://cosmoins.com/event/passover/
ATTACH;FMTTYPE=image/jpeg:https://cosmoins.com/wp-content/uploads/2020/09/Untitled-design-2020-09-22T145023.288.jpg
END:VEVENT
BEGIN:VEVENT
DTSTART;VALUE=DATE:20210317
DTEND;VALUE=DATE:20210318
DTSTAMP:20260423T032147
CREATED:20200923T183929Z
LAST-MODIFIED:20210415T011437Z
UID:17485-1615939200-1616025599@cosmoins.com
SUMMARY:St. Patrick's Day
DESCRIPTION:
URL:https://cosmoins.com/event/st-patricks-day/
ATTACH;FMTTYPE=image/jpeg:https://cosmoins.com/wp-content/uploads/2020/09/Untitled-design-2020-09-23T101838.276-1.jpg
END:VEVENT
BEGIN:VEVENT
DTSTART;VALUE=DATE:20210217
DTEND;VALUE=DATE:20210218
DTSTAMP:20260423T032147
CREATED:20200923T183841Z
LAST-MODIFIED:20210416T023853Z
UID:17483-1613520000-1613606399@cosmoins.com
SUMMARY:Ash Wednesday
DESCRIPTION:
URL:https://cosmoins.com/event/ash-wednesday/
ATTACH;FMTTYPE=image/jpeg:https://cosmoins.com/wp-content/uploads/2020/09/Untitled-design-2020-09-23T101802.788-1.jpg
END:VEVENT
BEGIN:VEVENT
DTSTART;VALUE=DATE:20210215
DTEND;VALUE=DATE:20210216
DTSTAMP:20260423T032147
CREATED:20200923T183757Z
LAST-MODIFIED:20210414T011240Z
UID:17481-1613347200-1613433599@cosmoins.com
SUMMARY:President's Day
DESCRIPTION:
URL:https://cosmoins.com/event/presidents-day/
ATTACH;FMTTYPE=image/jpeg:https://cosmoins.com/wp-content/uploads/2020/09/Untitled-design-2020-09-23T101631.491-1.jpg
END:VEVENT
BEGIN:VEVENT
DTSTART;VALUE=DATE:20210214
DTEND;VALUE=DATE:20210215
DTSTAMP:20260423T032147
CREATED:20200923T183710Z
LAST-MODIFIED:20210414T005431Z
UID:17479-1613260800-1613347199@cosmoins.com
SUMMARY:Valentine's Day
DESCRIPTION:
URL:https://cosmoins.com/event/valentines-day/
ATTACH;FMTTYPE=image/jpeg:https://cosmoins.com/wp-content/uploads/2020/09/Untitled-design-2020-09-23T101552.899-1.jpg
END:VEVENT
BEGIN:VEVENT
DTSTART;VALUE=DATE:20210106
DTEND;VALUE=DATE:20210107
DTSTAMP:20260423T032147
CREATED:20200923T183542Z
LAST-MODIFIED:20210426T230812Z
UID:17477-1609891200-1609977599@cosmoins.com
SUMMARY:3 Kings Day
DESCRIPTION:
URL:https://cosmoins.com/event/3-kings-day/
ATTACH;FMTTYPE=image/jpeg:https://cosmoins.com/wp-content/uploads/2020/09/Untitled-design-2020-09-23T101451.949-scaled.jpg
END:VEVENT
BEGIN:VEVENT
DTSTART;VALUE=DATE:20210101
DTEND;VALUE=DATE:20210102
DTSTAMP:20260423T032147
CREATED:20200923T183423Z
LAST-MODIFIED:20210429T015330Z
UID:17454-1609459200-1609545599@cosmoins.com
SUMMARY:New Year's Day: Office Closed
DESCRIPTION:
URL:https://cosmoins.com/event/new-years-day-office-closed/
END:VEVENT
BEGIN:VEVENT
DTSTART;VALUE=DATE:20201225
DTEND;VALUE=DATE:20201226
DTSTAMP:20260423T032147
CREATED:20200923T181040Z
LAST-MODIFIED:20210414T010908Z
UID:17452-1608854400-1608940799@cosmoins.com
SUMMARY:Christmas
DESCRIPTION:
URL:https://cosmoins.com/event/christmas/
ATTACH;FMTTYPE=image/jpeg:https://cosmoins.com/wp-content/uploads/2020/09/Untitled-design-2020-09-22T170059.220-scaled.jpg
END:VEVENT
BEGIN:VEVENT
DTSTART;VALUE=DATE:20201224
DTEND;VALUE=DATE:20201225
DTSTAMP:20260423T032147
CREATED:20200923T181000Z
LAST-MODIFIED:20210416T023933Z
UID:17450-1608768000-1608854399@cosmoins.com
SUMMARY:Christmas Eve
DESCRIPTION:
URL:https://cosmoins.com/event/christmas-eve/
ATTACH;FMTTYPE=image/jpeg:https://cosmoins.com/wp-content/uploads/2020/09/Untitled-design-2020-09-22T165812.488.jpg
END:VEVENT
BEGIN:VEVENT
DTSTART;VALUE=DATE:20201211
DTEND;VALUE=DATE:20201212
DTSTAMP:20260423T032147
CREATED:20200922T224126Z
LAST-MODIFIED:20210415T010807Z
UID:17372-1607644800-1607731199@cosmoins.com
SUMMARY:Hanukkah
DESCRIPTION:Wishing you and your loved ones a very Happy Hanukkah! May the Festival of Lights bring you and your family\, love and joy!
URL:https://cosmoins.com/event/happy-hanukkah/
ATTACH;FMTTYPE=image/jpeg:https://cosmoins.com/wp-content/uploads/2020/09/hanukkah.jpg
END:VEVENT
BEGIN:VEVENT
DTSTART;VALUE=DATE:20201126
DTEND;VALUE=DATE:20201127
DTSTAMP:20260423T032147
CREATED:20200923T180921Z
LAST-MODIFIED:20210414T011310Z
UID:17448-1606348800-1606435199@cosmoins.com
SUMMARY:Thanksgiving
DESCRIPTION:
URL:https://cosmoins.com/event/thanksgiving/
ATTACH;FMTTYPE=image/jpeg:https://cosmoins.com/wp-content/uploads/2020/09/Untitled-design-2020-09-22T165430.441-scaled.jpg
END:VEVENT
BEGIN:VEVENT
DTSTART;TZID=UTC:20201112T190000
DTEND;TZID=UTC:20201112T200000
DTSTAMP:20260423T032147
CREATED:20201007T002932Z
LAST-MODIFIED:20210218T060006Z
UID:17725-1605207600-1605211200@cosmoins.com
SUMMARY:Open Enrollment 2021 Virtual Webinar
DESCRIPTION:Sign up for our free open enrollment webinar to help you understand and navigate the health insurance plan options for open enrollment 2021. \nRequest a complementary health insurance quote for open enrollment and be entered in a raffle for a COVID-19 kit (Cosmo masks\, hand sanitizers\, and $25 Amazon gift card) \n  \nClick here to request a free quote  \nClick here to RSVP
URL:https://cosmoins.com/event/open-enrollment-2021-virtual-webinar-2/
ATTACH;FMTTYPE=image/png:https://cosmoins.com/wp-content/uploads/2020/10/Open-Enrollment-2021-Webinar.png
END:VEVENT
BEGIN:VEVENT
DTSTART;VALUE=DATE:20201103
DTEND;VALUE=DATE:20201104
DTSTAMP:20260423T032147
CREATED:20200923T180843Z
LAST-MODIFIED:20210416T024304Z
UID:17446-1604361600-1604447999@cosmoins.com
SUMMARY:Election Day
DESCRIPTION:
URL:https://cosmoins.com/event/election-day/
ATTACH;FMTTYPE=image/jpeg:https://cosmoins.com/wp-content/uploads/2020/09/Untitled-design-2020-09-22T165354.739-scaled.jpg
END:VEVENT
BEGIN:VEVENT
DTSTART;VALUE=DATE:20201031
DTEND;VALUE=DATE:20201101
DTSTAMP:20260423T032147
CREATED:20200923T180727Z
LAST-MODIFIED:20210415T010700Z
UID:17444-1604102400-1604188799@cosmoins.com
SUMMARY:Halloween
DESCRIPTION:
URL:https://cosmoins.com/event/halloween/
ATTACH;FMTTYPE=image/jpeg:https://cosmoins.com/wp-content/uploads/2020/09/Untitled-design-2020-09-22T165315.073-scaled.jpg
END:VEVENT
BEGIN:VEVENT
DTSTART;VALUE=DATE:20201030
DTEND;VALUE=DATE:20201031
DTSTAMP:20260423T032147
CREATED:20200923T180426Z
LAST-MODIFIED:20210415T010456Z
UID:17442-1604016000-1604102399@cosmoins.com
SUMMARY:Eid Milad Un Nabi
DESCRIPTION:
URL:https://cosmoins.com/event/eid-milad-un-nabi/
ATTACH;FMTTYPE=image/jpeg:https://cosmoins.com/wp-content/uploads/2020/09/Untitled-design-2020-09-22T165146.973-scaled.jpg
END:VEVENT
BEGIN:VEVENT
DTSTART;TZID=UTC:20201029T190000
DTEND;TZID=UTC:20201029T200000
DTSTAMP:20260423T032147
CREATED:20201007T002831Z
LAST-MODIFIED:20210414T005104Z
UID:17722-1603998000-1604001600@cosmoins.com
SUMMARY:Open Enrollment 2021 Virtual Webinar
DESCRIPTION:Sign up for our free open enrollment webinar to help you understand and navigate the health insurance plan options for open enrollment 2021.\n\n\nRequest a complementary health insurance quote for open enrollment and be entered in a raffle for a COVID-19 kit (Cosmo masks\, hand sanitizers\, and $25 Amazon gift card)\n\n\nClick here to request a free quote \nClick here to RSVP
URL:https://cosmoins.com/event/open-enrollment-2021-virtual-webinar/
ATTACH;FMTTYPE=image/png:https://cosmoins.com/wp-content/uploads/2020/10/Open-Enrollment-2021-Webinar.png
END:VEVENT
BEGIN:VEVENT
DTSTART;VALUE=DATE:20201012
DTEND;VALUE=DATE:20201013
DTSTAMP:20260423T032147
CREATED:20200923T180221Z
LAST-MODIFIED:20221206T220927Z
UID:17431-1602460800-1602547199@cosmoins.com
SUMMARY:Columbus Day
DESCRIPTION:Columbus Day
URL:https://cosmoins.com/event/columbus-day/
LOCATION:Insurance Event\, 2452 Maple Court\, Rolla\, United States
CATEGORIES:Day Event
ATTACH;FMTTYPE=image/jpeg:https://cosmoins.com/wp-content/uploads/2020/09/Untitled-design-2020-09-22T165030.448-scaled.jpg
ORGANIZER;CN="Cosmo Insurance":MAILTO:info@cosmoins.com
END:VEVENT
END:VCALENDAR