BEGIN:VCALENDAR
VERSION:2.0
PRODID:-//Employee Benefit Broker &amp; Health Insurance Agency in NJ - ECPv6.15.20//NONSGML v1.0//EN
CALSCALE:GREGORIAN
METHOD:PUBLISH
X-WR-CALNAME:Employee Benefit Broker &amp; Health Insurance Agency in NJ
X-ORIGINAL-URL:https://cosmoins.com
X-WR-CALDESC:Events for Employee Benefit Broker &amp; Health Insurance Agency in NJ
REFRESH-INTERVAL;VALUE=DURATION:PT1H
X-Robots-Tag:noindex
X-PUBLISHED-TTL:PT1H
BEGIN:VTIMEZONE
TZID:UTC
BEGIN:STANDARD
TZOFFSETFROM:+0000
TZOFFSETTO:+0000
TZNAME:UTC
DTSTART:20190101T000000
END:STANDARD
END:VTIMEZONE
BEGIN:VEVENT
DTSTART;VALUE=DATE:20201003
DTEND;VALUE=DATE:20201004
DTSTAMP:20260423T202837
CREATED:20200922T223707Z
LAST-MODIFIED:20210415T011513Z
UID:17369-1601683200-1601769599@cosmoins.com
SUMMARY:Sukkot
DESCRIPTION:
URL:https://cosmoins.com/event/sukkot/
ATTACH;FMTTYPE=image/jpeg:https://cosmoins.com/wp-content/uploads/2020/09/sukkot.jpg
END:VEVENT
BEGIN:VEVENT
DTSTART;VALUE=DATE:20200928
DTEND;VALUE=DATE:20200929
DTSTAMP:20260423T202837
CREATED:20200917T203730Z
LAST-MODIFIED:20210429T015448Z
UID:17327-1601251200-1601337599@cosmoins.com
SUMMARY:Yom Kippur: Office is Closed
DESCRIPTION:We are closed in observance of Yom Kippur.
URL:https://cosmoins.com/event/office-is-closed/
ATTACH;FMTTYPE=image/jpeg:https://cosmoins.com/wp-content/uploads/2020/09/yom-kippur.jpg
END:VEVENT
BEGIN:VEVENT
DTSTART;VALUE=DATE:20200920
DTEND;VALUE=DATE:20200921
DTSTAMP:20260423T202837
CREATED:20200919T222803Z
LAST-MODIFIED:20210415T011305Z
UID:17366-1600560000-1600646399@cosmoins.com
SUMMARY:Happy Rosh Hashanah
DESCRIPTION:Shana Tovah! May your year be filled with good health\, good fortune\, love\, peace and prosperity. Happy New Year!
URL:https://cosmoins.com/event/happy-rosh-hashanah/
ATTACH;FMTTYPE=image/jpeg:https://cosmoins.com/wp-content/uploads/2020/09/rosh-hashanah.jpg
END:VEVENT
BEGIN:VEVENT
DTSTART;TZID=UTC:20200318T083000
DTEND;TZID=UTC:20200318T173000
DTSTAMP:20260423T202837
CREATED:20200227T111415Z
LAST-MODIFIED:20210428T232224Z
UID:6914-1584520200-1584552600@cosmoins.com
SUMMARY:3rd USA Employee Benefits & Insurance Conference
DESCRIPTION:Sample Insurance Event
URL:https://cosmoins.com/event/insurance-event-2-2/
LOCATION:Insurance Event\, 2452 Maple Court\, Rolla\, United States
CATEGORIES:Day Event
ATTACH;FMTTYPE=image/jpeg:https://cosmoins.com/wp-content/uploads/2020/02/download-13.jpg
ORGANIZER;CN="Cosmo Insurance":MAILTO:info@cosmoins.com
END:VEVENT
BEGIN:VEVENT
DTSTART;TZID=UTC:20200224T083000
DTEND;TZID=UTC:20200224T173000
DTSTAMP:20260423T202837
CREATED:20200227T113443Z
LAST-MODIFIED:20210414T013314Z
UID:6932-1582533000-1582565400@cosmoins.com
SUMMARY:Insurance Event 2
DESCRIPTION:Sample Insurance Event
URL:https://cosmoins.com/event/insurance-event-2-2-2-2/
LOCATION:Insurance Event\, 2452 Maple Court\, Rolla\, United States
CATEGORIES:Day Event
ATTACH;FMTTYPE=image/jpeg:https://cosmoins.com/wp-content/uploads/2020/02/download-13.jpg
ORGANIZER;CN="Cosmo Insurance":MAILTO:info@cosmoins.com
END:VEVENT
BEGIN:VEVENT
DTSTART;TZID=UTC:20200219T083000
DTEND;TZID=UTC:20200219T173000
DTSTAMP:20260423T202837
CREATED:20200227T113355Z
LAST-MODIFIED:20210414T013350Z
UID:6930-1582101000-1582133400@cosmoins.com
SUMMARY:Insurance Event 1
DESCRIPTION:Sample Insurance Event
URL:https://cosmoins.com/event/insurance-event-2-2-2/
LOCATION:Insurance Event\, 2452 Maple Court\, Rolla\, United States
CATEGORIES:Day Event
ATTACH;FMTTYPE=image/png:https://cosmoins.com/wp-content/uploads/2020/02/download-13.png
ORGANIZER;CN="Cosmo Insurance":MAILTO:info@cosmoins.com
END:VEVENT
END:VCALENDAR