BEGIN:VCALENDAR
VERSION:2.0
PRODID:-//Employee Benefit Broker &amp; Health Insurance Agency in NJ - ECPv6.15.20//NONSGML v1.0//EN
CALSCALE:GREGORIAN
METHOD:PUBLISH
X-WR-CALNAME:Employee Benefit Broker &amp; Health Insurance Agency in NJ
X-ORIGINAL-URL:https://cosmoins.com
X-WR-CALDESC:Events for Employee Benefit Broker &amp; Health Insurance Agency in NJ
REFRESH-INTERVAL;VALUE=DURATION:PT1H
X-Robots-Tag:noindex
X-PUBLISHED-TTL:PT1H
BEGIN:VTIMEZONE
TZID:America/New_York
BEGIN:DAYLIGHT
TZOFFSETFROM:-0500
TZOFFSETTO:-0400
TZNAME:EDT
DTSTART:20220313T070000
END:DAYLIGHT
BEGIN:STANDARD
TZOFFSETFROM:-0400
TZOFFSETTO:-0500
TZNAME:EST
DTSTART:20221106T060000
END:STANDARD
BEGIN:DAYLIGHT
TZOFFSETFROM:-0500
TZOFFSETTO:-0400
TZNAME:EDT
DTSTART:20230312T070000
END:DAYLIGHT
BEGIN:STANDARD
TZOFFSETFROM:-0400
TZOFFSETTO:-0500
TZNAME:EST
DTSTART:20231105T060000
END:STANDARD
BEGIN:DAYLIGHT
TZOFFSETFROM:-0500
TZOFFSETTO:-0400
TZNAME:EDT
DTSTART:20240310T070000
END:DAYLIGHT
BEGIN:STANDARD
TZOFFSETFROM:-0400
TZOFFSETTO:-0500
TZNAME:EST
DTSTART:20241103T060000
END:STANDARD
END:VTIMEZONE
BEGIN:VEVENT
DTSTART;VALUE=DATE:20231207
DTEND;VALUE=DATE:20231208
DTSTAMP:20260423T004508
CREATED:20230131T164927Z
LAST-MODIFIED:20230131T164927Z
UID:25774-1701907200-1701993599@cosmoins.com
SUMMARY:Last day to enroll for Medicare
DESCRIPTION:
URL:https://cosmoins.com/event/last-day-to-enroll-for-medicare/
END:VEVENT
BEGIN:VEVENT
DTSTART;VALUE=DATE:20231201
DTEND;VALUE=DATE:20231202
DTSTAMP:20260423T004508
CREATED:20230130T190250Z
LAST-MODIFIED:20230130T190250Z
UID:25760-1701388800-1701475199@cosmoins.com
SUMMARY:Horizon BCBS health insurance renewal submission deadline.
DESCRIPTION:
URL:https://cosmoins.com/event/horizon-bcbs-health-insurance-renewal-submission-deadline-34/
END:VEVENT
BEGIN:VEVENT
DTSTART;VALUE=DATE:20231128
DTEND;VALUE=DATE:20231129
DTSTAMP:20260423T004508
CREATED:20230130T190140Z
LAST-MODIFIED:20230130T190140Z
UID:25759-1701129600-1701215999@cosmoins.com
SUMMARY:Horizon BCBS health insurance renewal submission deadline.
DESCRIPTION:
URL:https://cosmoins.com/event/horizon-bcbs-health-insurance-renewal-submission-deadline-33/
END:VEVENT
BEGIN:VEVENT
DTSTART;VALUE=DATE:20231115
DTEND;VALUE=DATE:20231116
DTSTAMP:20260423T004508
CREATED:20230130T185900Z
LAST-MODIFIED:20230130T185900Z
UID:25758-1700006400-1700092799@cosmoins.com
SUMMARY:Horizon BCBS health insurance renewal submission deadline.
DESCRIPTION:
URL:https://cosmoins.com/event/horizon-bcbs-health-insurance-renewal-submission-deadline-32/
END:VEVENT
BEGIN:VEVENT
DTSTART;TZID=America/New_York:20231112T083000
DTEND;TZID=America/New_York:20231112T120000
DTSTAMP:20260423T004508
CREATED:20230808T002322Z
LAST-MODIFIED:20230808T002322Z
UID:26785-1699777800-1699790400@cosmoins.com
SUMMARY:Run the Vineyards - Cork High & Bottle Deep - Half Marathon
DESCRIPTION:Experience a captivating race with Cosmo Insurance at the helm! Our scenic and level course commences and concludes amidst the enchanting beauty of a landscaped vineyard\, offering ample outdoor seating. The ultimate blend of fun and relaxation\, this Half Marathon\, a stone’s throw away from Philadelphia and the Jersey Shore\, promises an unforgettable journey. Secure your spot early as Run the Vineyards races often reach capacity swiftly. Delve into the world of Blue Cork Winery at BlueCorkWinery.com and support the noble cause of the Headstrong Foundation at HEADstrong.org. Join us for a race that’s more than a run – it’s a remarkable experience!
URL:https://cosmoins.com/event/run-the-vineyards-cork-high-bottle-deep-half-marathon/
LOCATION:Blue Cork Winery and Vineyard 1093 Blue Bell Road Williamstown\, NJ US 08094\, Blue Cork Winery and Vineyard 1093 Blue Bell Road\, Williamstown\, NJ\, 08094\, United States
END:VEVENT
BEGIN:VEVENT
DTSTART;TZID=America/New_York:20231101T080000
DTEND;TZID=America/New_York:20231231T170000
DTSTAMP:20260423T004508
CREATED:20230130T172019Z
LAST-MODIFIED:20230130T172019Z
UID:25719-1698825600-1704042000@cosmoins.com
SUMMARY:Open enrollment: For a January 1st 2024 effective date
DESCRIPTION:
URL:https://cosmoins.com/event/open-enrollment-for-a-january-1st-2024-effective-date/
END:VEVENT
BEGIN:VEVENT
DTSTART;VALUE=DATE:20231101
DTEND;VALUE=DATE:20231102
DTSTAMP:20260423T004508
CREATED:20230130T185824Z
LAST-MODIFIED:20230130T185824Z
UID:25757-1698796800-1698883199@cosmoins.com
SUMMARY:Horizon BCBS health insurance renewal submission deadline.
DESCRIPTION:
URL:https://cosmoins.com/event/horizon-bcbs-health-insurance-renewal-submission-deadline-31/
END:VEVENT
BEGIN:VEVENT
DTSTART;VALUE=DATE:20231028
DTEND;VALUE=DATE:20231029
DTSTAMP:20260423T004508
CREATED:20230130T185613Z
LAST-MODIFIED:20230130T185613Z
UID:25756-1698451200-1698537599@cosmoins.com
SUMMARY:Horizon BCBS health insurance renewal submission deadline.
DESCRIPTION:
URL:https://cosmoins.com/event/horizon-bcbs-health-insurance-renewal-submission-deadline-30/
END:VEVENT
BEGIN:VEVENT
DTSTART;TZID=America/New_York:20231024T080000
DTEND;TZID=America/New_York:20231025T170000
DTSTAMP:20260423T004508
CREATED:20230106T164954Z
LAST-MODIFIED:20230209T163659Z
UID:25542-1698134400-1698253200@cosmoins.com
SUMMARY:	Annual Convention and Expo
DESCRIPTION:Watch for further information in the summer.
URL:https://cosmoins.com/event/%ef%81%b6annual-convention-and-expo/
LOCATION:Harrah’s Conference Center\, 777 Harrah's Blvd\, Atlantic City\, NJ\, 08401\, United States
END:VEVENT
BEGIN:VEVENT
DTSTART;TZID=America/New_York:20231015T080000
DTEND;TZID=America/New_York:20231017T190000
DTSTAMP:20260423T004508
CREATED:20230815T174622Z
LAST-MODIFIED:20230815T174636Z
UID:26899-1697356800-1697569200@cosmoins.com
SUMMARY:GSC-SHRM
DESCRIPTION:Experience three days of HR excellence at the GSC-SHRM Annual Conference from October 15th to 17th\, 2023\, held at the prestigious Atlantic City Convention Center. As the premier state-level affiliate of the Society for Human Resource Management\, GSC-SHRM is dedicated to shaping the future of HR professionals in New Jersey. Immerse yourself in a dynamic environment where HR expertise meets innovation. \nJoin us bright and early each morning at 7:00 AM as we embark on a journey of learning\, collaboration\, and growth. Whether you’re a seasoned HR professional seeking to stay updated on the latest industry trends\, or new to the field and eager to establish connections\, GSC-SHRM’s conference offers a diverse range of programs\, conferences\, and networking opportunities tailored to your needs. \nDiscover cutting-edge insights that redefine the HR landscape\, gain valuable knowledge from industry leaders\, and connect with like-minded professionals who share your passion for human resource management. At GSC-SHRM\, we’re not just an affiliate – we’re a supportive community that empowers HR excellence and nurtures the growth of HR professionals across New Jersey. \nThis event serves as your entry point to a world of HR possibilities\, especially if you’re new to the state or in an area not covered by a local chapter. Embrace the opportunity to exchange ideas\, foster collaborations\, and contribute to the larger SHRM initiatives within New Jersey. \nMark your calendar and join us for an unforgettable experience at the GSC-SHRM Annual Conference. Together\, we’ll shape the future of HR in New Jersey and beyond. See you there! 🌟 #GSCSHRM2023 #HRExcellence
URL:https://cosmoins.com/event/gsc-shrm/
LOCATION:Atlantic City Convention Center\, 1 Convention Blvd\, Atlantic City\, NJ\, 08401\, United States
ATTACH;FMTTYPE=image/png:https://cosmoins.com/wp-content/uploads/2023/08/Brown-Clean-Corporate-Homeless-Awareness-Education-Square-Homelessness-Instagram-Post-1.png
END:VEVENT
BEGIN:VEVENT
DTSTART;VALUE=DATE:20231015
DTEND;VALUE=DATE:20231016
DTSTAMP:20260423T004508
CREATED:20230131T164429Z
LAST-MODIFIED:20230131T164429Z
UID:25773-1697328000-1697414399@cosmoins.com
SUMMARY:Medicare enrollment opens
DESCRIPTION:
URL:https://cosmoins.com/event/medicare-enrollment-opens/
END:VEVENT
BEGIN:VEVENT
DTSTART;VALUE=DATE:20231015
DTEND;VALUE=DATE:20231016
DTSTAMP:20260423T004508
CREATED:20230130T185540Z
LAST-MODIFIED:20230130T185540Z
UID:25755-1697328000-1697414399@cosmoins.com
SUMMARY:Horizon BCBS health insurance renewal submission deadline.
DESCRIPTION:
URL:https://cosmoins.com/event/horizon-bcbs-health-insurance-renewal-submission-deadline-29/
END:VEVENT
BEGIN:VEVENT
DTSTART;VALUE=DATE:20231006
DTEND;VALUE=DATE:20231009
DTSTAMP:20260423T004508
CREATED:20230119T175634Z
LAST-MODIFIED:20230130T170303Z
UID:25687-1696550400-1696809599@cosmoins.com
SUMMARY:Shemini Atzeret & Simchat Torah: Office is closed.
DESCRIPTION:
URL:https://cosmoins.com/event/shemini-atzeret-simchat-torah-2/
END:VEVENT
BEGIN:VEVENT
DTSTART;VALUE=DATE:20231001
DTEND;VALUE=DATE:20231002
DTSTAMP:20260423T004508
CREATED:20230130T185501Z
LAST-MODIFIED:20230130T185501Z
UID:25754-1696118400-1696204799@cosmoins.com
SUMMARY:Horizon BCBS health insurance renewal submission deadline.
DESCRIPTION:
URL:https://cosmoins.com/event/horizon-bcbs-health-insurance-renewal-submission-deadline-28/
END:VEVENT
BEGIN:VEVENT
DTSTART;VALUE=DATE:20230930
DTEND;VALUE=DATE:20231002
DTSTAMP:20260423T004508
CREATED:20230119T175441Z
LAST-MODIFIED:20230130T170213Z
UID:25685-1696032000-1696204799@cosmoins.com
SUMMARY:Sukkot: Office is closed.
DESCRIPTION:
URL:https://cosmoins.com/event/sukkot-2/
END:VEVENT
BEGIN:VEVENT
DTSTART;VALUE=DATE:20230930
DTEND;VALUE=DATE:20231001
DTSTAMP:20260423T004508
CREATED:20230130T200352Z
LAST-MODIFIED:20230130T200352Z
UID:25771-1696032000-1696118399@cosmoins.com
SUMMARY:Quarterly pay roll report: Form 927
DESCRIPTION:
URL:https://cosmoins.com/event/quarterly-pay-roll-report-form-927-3/
END:VEVENT
BEGIN:VEVENT
DTSTART;VALUE=DATE:20230928
DTEND;VALUE=DATE:20230929
DTSTAMP:20260423T004508
CREATED:20230130T185259Z
LAST-MODIFIED:20230130T185259Z
UID:25753-1695859200-1695945599@cosmoins.com
SUMMARY:Horizon BCBS health insurance renewal submission deadline.
DESCRIPTION:
URL:https://cosmoins.com/event/horizon-bcbs-health-insurance-renewal-submission-deadline-27/
END:VEVENT
BEGIN:VEVENT
DTSTART;VALUE=DATE:20230925
DTEND;VALUE=DATE:20230926
DTSTAMP:20260423T004508
CREATED:20230119T175319Z
LAST-MODIFIED:20230130T170041Z
UID:25683-1695600000-1695686399@cosmoins.com
SUMMARY:Yom Kippur: Office is closed.
DESCRIPTION:
URL:https://cosmoins.com/event/yom-kippur/
END:VEVENT
BEGIN:VEVENT
DTSTART;VALUE=DATE:20230915
DTEND;VALUE=DATE:20230918
DTSTAMP:20260423T004508
CREATED:20230119T175212Z
LAST-MODIFIED:20230130T164715Z
UID:25681-1694736000-1694995199@cosmoins.com
SUMMARY:Rosh Hashanah: Office is closed.
DESCRIPTION: 
URL:https://cosmoins.com/event/rosh-hashanah/
END:VEVENT
BEGIN:VEVENT
DTSTART;VALUE=DATE:20230915
DTEND;VALUE=DATE:20230916
DTSTAMP:20260423T004508
CREATED:20230130T185137Z
LAST-MODIFIED:20230130T185137Z
UID:25752-1694736000-1694822399@cosmoins.com
SUMMARY:Horizon BCBS health insurance renewal submission deadline.
DESCRIPTION:
URL:https://cosmoins.com/event/horizon-bcbs-health-insurance-renewal-submission-deadline-26/
END:VEVENT
BEGIN:VEVENT
DTSTART;VALUE=DATE:20230904
DTEND;VALUE=DATE:20230905
DTSTAMP:20260423T004508
CREATED:20230119T174629Z
LAST-MODIFIED:20230130T165956Z
UID:25677-1693785600-1693871999@cosmoins.com
SUMMARY:Labor day: Office is closed.
DESCRIPTION:
URL:https://cosmoins.com/event/labor-day-3/
END:VEVENT
BEGIN:VEVENT
DTSTART;VALUE=DATE:20230901
DTEND;VALUE=DATE:20230902
DTSTAMP:20260423T004508
CREATED:20230130T181827Z
LAST-MODIFIED:20230130T181827Z
UID:25751-1693526400-1693612799@cosmoins.com
SUMMARY:Horizon BCBS health insurance renewal submission deadline.
DESCRIPTION:
URL:https://cosmoins.com/event/horizon-bcbs-health-insurance-renewal-submission-deadline-25/
END:VEVENT
BEGIN:VEVENT
DTSTART;VALUE=DATE:20230828
DTEND;VALUE=DATE:20230829
DTSTAMP:20260423T004508
CREATED:20230130T181750Z
LAST-MODIFIED:20230130T181750Z
UID:25750-1693180800-1693267199@cosmoins.com
SUMMARY:Horizon BCBS health insurance renewal submission deadline.
DESCRIPTION:
URL:https://cosmoins.com/event/horizon-bcbs-health-insurance-renewal-submission-deadline-24/
END:VEVENT
BEGIN:VEVENT
DTSTART;VALUE=DATE:20230825
DTEND;VALUE=DATE:20230828
DTSTAMP:20260423T004508
CREATED:20230815T175106Z
LAST-MODIFIED:20230815T175106Z
UID:26902-1692921600-1693180799@cosmoins.com
SUMMARY:75th Annual HCANJ Convention and Expo
DESCRIPTION:Step into a legacy of excellence as we celebrate 75 years of the Annual HCANJ Convention and Expo\, taking place from October 23rd to 25th\, 2023\, at the iconic Harrah’s Waterfront Conference Center in Atlantic City. Join us for an extraordinary event that blends tradition with innovation\, setting the stage for the future of healthcare. \nAs pioneers in the healthcare industry\, the Healthcare Association of New Jersey (HCANJ) has been at the forefront of transformative advancements. This landmark convention brings together healthcare professionals\, industry leaders\, and visionaries to honor our past achievements and collectively shape the trajectory of healthcare for years to come. \nOur journey begins with vendor setup on October 23rd\, setting the stage for an immersive experience that follows. From cutting-edge medical technologies to breakthrough treatment methodologies\, the 75th Annual HCANJ Convention and Expo showcases the best of healthcare innovation. Explore a dynamic exhibition floor\, where industry-leading vendors will showcase their latest solutions designed to enhance patient care\, streamline operations\, and elevate healthcare standards. \nImmerse yourself in a diverse range of sessions\, discussions\, and workshops led by thought leaders who have paved the way in healthcare excellence. Engage in meaningful dialogues that address the challenges and opportunities faced by the industry today. Whether you’re a healthcare practitioner\, administrator\, researcher\, or simply passionate about healthcare advancement\, this convention provides a platform to connect\, collaborate\, and catalyze change. \nAt the Harrah’s Waterfront Conference Center\, you’ll not only be part of a historic milestone but also contribute to the evolving landscape of healthcare. Join us as we bridge the gap between tradition and innovation\, celebrating our achievements while propelling healthcare into a new era of possibilities. \nMark your calendar for the 75th Annual HCANJ Convention and Expo – where the past meets the future\, and where healthcare excellence is redefined. See you there! 🎉 #HCANJ75th #HealthcareInnovation
URL:https://cosmoins.com/event/75th-annual-hcanj-convention-and-expo/
LOCATION:Harrah’s Conference Center\, 777 Harrah's Blvd\, Atlantic City\, NJ\, 08401\, United States
ATTACH;FMTTYPE=image/png:https://cosmoins.com/wp-content/uploads/2023/08/Brown-Clean-Corporate-Homeless-Awareness-Education-Square-Homelessness-Instagram-Post-2.png
END:VEVENT
BEGIN:VEVENT
DTSTART;VALUE=DATE:20230815
DTEND;VALUE=DATE:20230816
DTSTAMP:20260423T004509
CREATED:20230130T181723Z
LAST-MODIFIED:20230130T181723Z
UID:25749-1692057600-1692143999@cosmoins.com
SUMMARY:Horizon BCBS health insurance renewal submission deadline.
DESCRIPTION:
URL:https://cosmoins.com/event/horizon-bcbs-health-insurance-renewal-submission-deadline-23/
END:VEVENT
BEGIN:VEVENT
DTSTART;VALUE=DATE:20230801
DTEND;VALUE=DATE:20230802
DTSTAMP:20260423T004509
CREATED:20230130T181646Z
LAST-MODIFIED:20230130T181646Z
UID:25748-1690848000-1690934399@cosmoins.com
SUMMARY:Horizon BCBS health insurance renewal submission deadline.
DESCRIPTION:
URL:https://cosmoins.com/event/horizon-bcbs-health-insurance-renewal-submission-deadline-22/
END:VEVENT
BEGIN:VEVENT
DTSTART;VALUE=DATE:20230728
DTEND;VALUE=DATE:20230729
DTSTAMP:20260423T004509
CREATED:20230130T181607Z
LAST-MODIFIED:20230130T181607Z
UID:25747-1690502400-1690588799@cosmoins.com
SUMMARY:Horizon BCBS health insurance renewal submission deadline.
DESCRIPTION:
URL:https://cosmoins.com/event/horizon-bcbs-health-insurance-renewal-submission-deadline-21/
END:VEVENT
BEGIN:VEVENT
DTSTART;TZID=America/New_York:20230723T093000
DTEND;TZID=America/New_York:20230723T113000
DTSTAMP:20260423T004509
CREATED:20230723T130952Z
LAST-MODIFIED:20230723T131032Z
UID:26649-1690104600-1690111800@cosmoins.com
SUMMARY:Planting & Fun POAC
DESCRIPTION:Come and be a part of a heartwarming event that combines the joy of planting and the excitement of supporting a truly incredible cause! Join us in our mission to make a difference in the lives of children with autism. \nIn this special gathering\, we’ll be coming together to plant seeds of hope and compassion\, both literally and metaphorically. As we dig our hands into the soil to nurture and grow beautiful plants\, we’ll also be nurturing the dreams and aspirations of children on the autism spectrum. Our collective efforts aim to create a brighter future for them\, filled with love\, understanding\, and opportunities. \nThe event promises to be a delightful experience\, where we’ll not only be contributing to a meaningful cause but also fostering a sense of community and togetherness. As we plant and tend to our garden\, we’ll also be planting seeds of awareness and acceptance for those affected by autism. \nWhether you have a green thumb or just a desire to make a positive impact\, all are welcome to join us for this day of planting and fun. Every little contribution counts\, and your involvement will go a long way in supporting the invaluable work done for children with autism. \nSo mark your calendars and gather your family and friends to be a part of this heartwarming event. Let’s create a world where children with autism are empowered\, loved\, and celebrated for their uniqueness. Together\, we can sow the seeds of change and make a lasting difference in the lives of these remarkable children. See you there!https://www.poac.net/events/planting-fun-allaire-community-farm/
URL:https://cosmoins.com/event/planting-fun-poac/
LOCATION:Allaire Community Farm\, 1923 Baileys Corner Road\, Wall Township\, 07719\, United States
CATEGORIES:Day Event
END:VEVENT
BEGIN:VEVENT
DTSTART;VALUE=DATE:20230715
DTEND;VALUE=DATE:20230716
DTSTAMP:20260423T004509
CREATED:20230130T181536Z
LAST-MODIFIED:20230130T181536Z
UID:25746-1689379200-1689465599@cosmoins.com
SUMMARY:Horizon BCBS health insurance renewal submission deadline.
DESCRIPTION:
URL:https://cosmoins.com/event/horizon-bcbs-health-insurance-renewal-submission-deadline-20/
END:VEVENT
BEGIN:VEVENT
DTSTART;TZID=America/New_York:20230712T180000
DTEND;TZID=America/New_York:20230712T203000
DTSTAMP:20260423T004509
CREATED:20230712T204604Z
LAST-MODIFIED:20230724T151043Z
UID:26554-1689184800-1689193800@cosmoins.com
SUMMARY:Brew Run
DESCRIPTION:Join Cosmo Insurance at the exciting Brew Run on July 19th! Lace up your running shoes and get ready for a fantastic event that combines fitness\, camaraderie\, and delicious brews. Cosmo Insurance is thrilled to be a part of this exhilarating run\, where participants can enjoy a scenic course while indulging in the incredible craft beer scene. The Brew Run is a unique experience that caters to both fitness enthusiasts and beer lovers alike\, making it the perfect event to bring together friends\, families\, and coworkers for a day of fun and adventure. As an insurance company that values health and well-being\, Cosmo Insurance is proud to support events that promote an active lifestyle. We believe in the importance of staying fit and maintaining a balanced lifestyle\, and the Brew Run perfectly aligns with our commitment to encouraging healthy living. During the Brew Run\, Cosmo Insurance will be present to provide information and answer any insurance-related questions you may have. Our knowledgeable team will be available to discuss the various insurance options available\, ensuring that you have the coverage you need to protect what matters most to you and your loved ones. Not only will you have the opportunity to participate in a thrilling run\, but you’ll also have the chance to connect with the Cosmo Insurance team and learn about the valuable insurance solutions we offer. We understand the significance of having the right insurance coverage\, and we are dedicated to helping you make informed decisions that safeguard your future. So mark your calendars for July 19th and join Cosmo Insurance at the Brew Run for a memorable day of fitness\, camaraderie\, and great beer. Whether you’re an avid runner\, a beer aficionado\, or simply looking for a fun and energetic event\, this run is sure to exceed your expectations. Don’t miss out on the opportunity to experience the best of both worlds – a fantastic run and a chance to explore the craft beer scene. Cosmo Insurance looks forward to seeing you at the Brew Run\, where we’ll celebrate health\, happiness\, and the joy of coming together for a fantastic cause.
URL:https://cosmoins.com/event/brew-run/
LOCATION:Farmers & Bankers Brewing\, 8 N Main St\, Woodstown\, NJ\, 08098\, United States
END:VEVENT
END:VCALENDAR